BEGIN:VCALENDAR
VERSION:2.0
PRODID:-//Long Island High School for the Arts - ECPv5.16.4//NONSGML v1.0//EN
CALSCALE:GREGORIAN
METHOD:PUBLISH
X-WR-CALNAME:Long Island High School for the Arts
X-ORIGINAL-URL:https://www.longislandhighschoolforthearts.org
X-WR-CALDESC:Events for Long Island High School for the Arts
REFRESH-INTERVAL;VALUE=DURATION:PT1H
X-Robots-Tag:noindex
X-PUBLISHED-TTL:PT1H
BEGIN:VTIMEZONE
TZID:America/New_York
BEGIN:DAYLIGHT
TZOFFSETFROM:-0500
TZOFFSETTO:-0400
TZNAME:EDT
DTSTART:20240310T070000
END:DAYLIGHT
BEGIN:STANDARD
TZOFFSETFROM:-0400
TZOFFSETTO:-0500
TZNAME:EST
DTSTART:20241103T060000
END:STANDARD
END:VTIMEZONE
BEGIN:VEVENT
DTSTART;TZID=America/New_York:20240402T080000
DTEND;TZID=America/New_York:20240402T103000
DTSTAMP:20260424T233002
CREATED:20230707T133614Z
LAST-MODIFIED:20230707T133614Z
UID:19590-1712044800-1712053800@www.longislandhighschoolforthearts.org
SUMMARY:All Senior Scholarship Applications Due
DESCRIPTION:
URL:https://www.longislandhighschoolforthearts.org/event/all-senior-scholarship-applications-due/
END:VEVENT
BEGIN:VEVENT
DTSTART;TZID=America/New_York:20240402T120000
DTEND;TZID=America/New_York:20240402T143000
DTSTAMP:20260424T233002
CREATED:20230707T133718Z
LAST-MODIFIED:20230707T133820Z
UID:19592-1712059200-1712068200@www.longislandhighschoolforthearts.org
SUMMARY:All Senior Scholarship Applications Due
DESCRIPTION:
URL:https://www.longislandhighschoolforthearts.org/event/all-senior-scholarship-applications-due-2/
END:VEVENT
END:VCALENDAR