BEGIN:VCALENDAR
VERSION:2.0
PRODID:-//Long Island High School for the Arts - ECPv5.16.4//NONSGML v1.0//EN
CALSCALE:GREGORIAN
METHOD:PUBLISH
X-WR-CALNAME:Long Island High School for the Arts
X-ORIGINAL-URL:https://www.longislandhighschoolforthearts.org
X-WR-CALDESC:Events for Long Island High School for the Arts
REFRESH-INTERVAL;VALUE=DURATION:PT1H
X-Robots-Tag:noindex
X-PUBLISHED-TTL:PT1H
BEGIN:VTIMEZONE
TZID:America/New_York
BEGIN:DAYLIGHT
TZOFFSETFROM:-0500
TZOFFSETTO:-0400
TZNAME:EDT
DTSTART:20240310T070000
END:DAYLIGHT
BEGIN:STANDARD
TZOFFSETFROM:-0400
TZOFFSETTO:-0500
TZNAME:EST
DTSTART:20241103T060000
END:STANDARD
END:VTIMEZONE
BEGIN:VEVENT
DTSTART;TZID=America/New_York:20240508T080000
DTEND;TZID=America/New_York:20240508T103000
DTSTAMP:20260424T213504
CREATED:20230707T151847Z
LAST-MODIFIED:20230707T151847Z
UID:19644-1715155200-1715164200@www.longislandhighschoolforthearts.org
SUMMARY:Written Technical Assessments - All Students
DESCRIPTION:
URL:https://www.longislandhighschoolforthearts.org/event/written-technical-assessments-all-students-5/
END:VEVENT
BEGIN:VEVENT
DTSTART;TZID=America/New_York:20240508T120000
DTEND;TZID=America/New_York:20240508T143000
DTSTAMP:20260424T213504
CREATED:20230707T151944Z
LAST-MODIFIED:20230707T151944Z
UID:19646-1715169600-1715178600@www.longislandhighschoolforthearts.org
SUMMARY:Written Technical Assessments - All Students
DESCRIPTION:
URL:https://www.longislandhighschoolforthearts.org/event/written-technical-assessments-all-students-6/
END:VEVENT
END:VCALENDAR