BEGIN:VCALENDAR
VERSION:2.0
PRODID:-//Long Island High School for the Arts - ECPv5.16.4//NONSGML v1.0//EN
CALSCALE:GREGORIAN
METHOD:PUBLISH
X-WR-CALNAME:Long Island High School for the Arts
X-ORIGINAL-URL:https://www.longislandhighschoolforthearts.org
X-WR-CALDESC:Events for Long Island High School for the Arts
REFRESH-INTERVAL;VALUE=DURATION:PT1H
X-Robots-Tag:noindex
X-PUBLISHED-TTL:PT1H
BEGIN:VTIMEZONE
TZID:America/New_York
BEGIN:DAYLIGHT
TZOFFSETFROM:-0500
TZOFFSETTO:-0400
TZNAME:EDT
DTSTART:20240310T070000
END:DAYLIGHT
BEGIN:STANDARD
TZOFFSETFROM:-0400
TZOFFSETTO:-0500
TZNAME:EST
DTSTART:20241103T060000
END:STANDARD
END:VTIMEZONE
BEGIN:VEVENT
DTSTART;TZID=America/New_York:20240510T080000
DTEND;TZID=America/New_York:20240510T103000
DTSTAMP:20260424T175555
CREATED:20230707T152223Z
LAST-MODIFIED:20230707T152223Z
UID:19652-1715328000-1715337000@www.longislandhighschoolforthearts.org
SUMMARY:AP Art Exam
DESCRIPTION:
URL:https://www.longislandhighschoolforthearts.org/event/ap-art-exam/
END:VEVENT
BEGIN:VEVENT
DTSTART;TZID=America/New_York:20240510T080000
DTEND;TZID=America/New_York:20240510T103000
DTSTAMP:20260424T175555
CREATED:20230707T152436Z
LAST-MODIFIED:20230707T152436Z
UID:19656-1715328000-1715337000@www.longislandhighschoolforthearts.org
SUMMARY:Marking Period 4 Progress Reports Released to Students
DESCRIPTION:
URL:https://www.longislandhighschoolforthearts.org/event/marking-period-4-progress-reports-released-to-students/
END:VEVENT
BEGIN:VEVENT
DTSTART;TZID=America/New_York:20240510T120000
DTEND;TZID=America/New_York:20240510T143000
DTSTAMP:20260424T175555
CREATED:20230707T152303Z
LAST-MODIFIED:20230707T152303Z
UID:19654-1715342400-1715351400@www.longislandhighschoolforthearts.org
SUMMARY:AP Art Exam
DESCRIPTION:
URL:https://www.longislandhighschoolforthearts.org/event/ap-art-exam-2/
END:VEVENT
BEGIN:VEVENT
DTSTART;TZID=America/New_York:20240510T120000
DTEND;TZID=America/New_York:20240510T143000
DTSTAMP:20260424T175555
CREATED:20230707T152514Z
LAST-MODIFIED:20230707T152514Z
UID:19658-1715342400-1715351400@www.longislandhighschoolforthearts.org
SUMMARY:Marking Period 4 Progress Reports Released to Students
DESCRIPTION:
URL:https://www.longislandhighschoolforthearts.org/event/marking-period-4-progress-reports-released-to-students-2/
END:VEVENT
END:VCALENDAR