BEGIN:VCALENDAR
VERSION:2.0
PRODID:-//Long Island High School for the Arts - ECPv5.16.4//NONSGML v1.0//EN
CALSCALE:GREGORIAN
METHOD:PUBLISH
X-WR-CALNAME:Long Island High School for the Arts
X-ORIGINAL-URL:https://www.longislandhighschoolforthearts.org
X-WR-CALDESC:Events for Long Island High School for the Arts
REFRESH-INTERVAL;VALUE=DURATION:PT1H
X-Robots-Tag:noindex
X-PUBLISHED-TTL:PT1H
BEGIN:VTIMEZONE
TZID:America/New_York
BEGIN:DAYLIGHT
TZOFFSETFROM:-0500
TZOFFSETTO:-0400
TZNAME:EDT
DTSTART:20240310T070000
END:DAYLIGHT
BEGIN:STANDARD
TZOFFSETFROM:-0400
TZOFFSETTO:-0500
TZNAME:EST
DTSTART:20241103T060000
END:STANDARD
END:VTIMEZONE
BEGIN:VEVENT
DTSTART;TZID=America/New_York:20240531T080000
DTEND;TZID=America/New_York:20240531T103000
DTSTAMP:20260424T162605
CREATED:20230708T142457Z
LAST-MODIFIED:20230708T142457Z
UID:19694-1717142400-1717151400@www.longislandhighschoolforthearts.org
SUMMARY:Technical Rehearsal - Dance & Music
DESCRIPTION:
URL:https://www.longislandhighschoolforthearts.org/event/technical-rehearsal-dance-music-7/
END:VEVENT
BEGIN:VEVENT
DTSTART;TZID=America/New_York:20240531T120000
DTEND;TZID=America/New_York:20240531T143000
DTSTAMP:20260424T162605
CREATED:20230708T142616Z
LAST-MODIFIED:20230708T142616Z
UID:19696-1717156800-1717165800@www.longislandhighschoolforthearts.org
SUMMARY:Technical Rehearsal - Dance & Music
DESCRIPTION:
URL:https://www.longislandhighschoolforthearts.org/event/technical-rehearsal-dance-music-8/
END:VEVENT
BEGIN:VEVENT
DTSTART;TZID=America/New_York:20240531T143000
DTEND;TZID=America/New_York:20240531T173000
DTSTAMP:20260424T162605
CREATED:20230708T143010Z
LAST-MODIFIED:20230710T135158Z
UID:19700-1717165800-1717176600@www.longislandhighschoolforthearts.org
SUMMARY:Music Students - Technical Rehearsal
DESCRIPTION:
URL:https://www.longislandhighschoolforthearts.org/event/music-theatre-students-technical-rehearsal/
END:VEVENT
BEGIN:VEVENT
DTSTART;TZID=America/New_York:20240531T180000
DTEND;TZID=America/New_York:20240531T193000
DTSTAMP:20260424T162605
CREATED:20230708T142812Z
LAST-MODIFIED:20230708T144512Z
UID:19698-1717178400-1717183800@www.longislandhighschoolforthearts.org
SUMMARY:Spring Festival - Music Performance
DESCRIPTION:
URL:https://www.longislandhighschoolforthearts.org/event/spring-festival-music-performance/
END:VEVENT
END:VCALENDAR