BEGIN:VCALENDAR
VERSION:2.0
PRODID:-//Long Island High School for the Arts - ECPv5.16.4//NONSGML v1.0//EN
CALSCALE:GREGORIAN
METHOD:PUBLISH
X-WR-CALNAME:Long Island High School for the Arts
X-ORIGINAL-URL:https://www.longislandhighschoolforthearts.org
X-WR-CALDESC:Events for Long Island High School for the Arts
REFRESH-INTERVAL;VALUE=DURATION:PT1H
X-Robots-Tag:noindex
X-PUBLISHED-TTL:PT1H
BEGIN:VTIMEZONE
TZID:America/New_York
BEGIN:DAYLIGHT
TZOFFSETFROM:-0500
TZOFFSETTO:-0400
TZNAME:EDT
DTSTART:20250309T070000
END:DAYLIGHT
BEGIN:STANDARD
TZOFFSETFROM:-0400
TZOFFSETTO:-0500
TZNAME:EST
DTSTART:20251102T060000
END:STANDARD
END:VTIMEZONE
BEGIN:VEVENT
DTSTART;VALUE=DATE:20250124
DTEND;VALUE=DATE:20250125
DTSTAMP:20260425T063048
CREATED:20240809T130911Z
LAST-MODIFIED:20240809T130911Z
UID:24087-1737676800-1737763199@www.longislandhighschoolforthearts.org
SUMMARY:Regents Week
DESCRIPTION:
URL:https://www.longislandhighschoolforthearts.org/event/regents-week-9/
END:VEVENT
BEGIN:VEVENT
DTSTART;TZID=America/New_York:20250124T143000
DTEND;TZID=America/New_York:20250124T143000
DTSTAMP:20260425T063048
CREATED:20240809T125634Z
LAST-MODIFIED:20240809T125634Z
UID:24074-1737729000-1737729000@www.longislandhighschoolforthearts.org
SUMMARY:Marking Period 2 Ends
DESCRIPTION:
URL:https://www.longislandhighschoolforthearts.org/event/marking-period-2-ends-2/
END:VEVENT
BEGIN:VEVENT
DTSTART;TZID=America/New_York:20250124T180000
DTEND;TZID=America/New_York:20250124T210000
DTSTAMP:20260425T063048
CREATED:20240809T125756Z
LAST-MODIFIED:20240809T125756Z
UID:24076-1737741600-1737752400@www.longislandhighschoolforthearts.org
SUMMARY:Sitzprobe AM & PM Students
DESCRIPTION:
URL:https://www.longislandhighschoolforthearts.org/event/sitzprobe-am-pm-students/
END:VEVENT
END:VCALENDAR