BEGIN:VCALENDAR
VERSION:2.0
PRODID:-//Long Island High School for the Arts - ECPv5.16.4//NONSGML v1.0//EN
CALSCALE:GREGORIAN
METHOD:PUBLISH
X-WR-CALNAME:Long Island High School for the Arts
X-ORIGINAL-URL:https://www.longislandhighschoolforthearts.org
X-WR-CALDESC:Events for Long Island High School for the Arts
REFRESH-INTERVAL;VALUE=DURATION:PT1H
X-Robots-Tag:noindex
X-PUBLISHED-TTL:PT1H
BEGIN:VTIMEZONE
TZID:America/New_York
BEGIN:DAYLIGHT
TZOFFSETFROM:-0500
TZOFFSETTO:-0400
TZNAME:EDT
DTSTART:20250309T070000
END:DAYLIGHT
BEGIN:STANDARD
TZOFFSETFROM:-0400
TZOFFSETTO:-0500
TZNAME:EST
DTSTART:20251102T060000
END:STANDARD
END:VTIMEZONE
BEGIN:VEVENT
DTSTART;TZID=America/New_York:20250424T080000
DTEND;TZID=America/New_York:20250424T103000
DTSTAMP:20260425T093552
CREATED:20240804T214207Z
LAST-MODIFIED:20250124T144243Z
UID:23836-1745481600-1745490600@www.longislandhighschoolforthearts.org
SUMMARY:1 + 1 - Bring a Friend to LIHSA Day
DESCRIPTION:Click Here To Register
URL:https://www.longislandhighschoolforthearts.org/event/1-1-bring-a-friend-to-lihsa-day-13/
END:VEVENT
BEGIN:VEVENT
DTSTART;TZID=America/New_York:20250424T120000
DTEND;TZID=America/New_York:20250424T143000
DTSTAMP:20260425T093552
CREATED:20240804T214331Z
LAST-MODIFIED:20250124T144318Z
UID:23838-1745496000-1745505000@www.longislandhighschoolforthearts.org
SUMMARY:1 + 1 - Bring a Friend to LIHSA Day
DESCRIPTION:Click Here To Register
URL:https://www.longislandhighschoolforthearts.org/event/1-1-bring-a-friend-to-lihsa-day-14/
END:VEVENT
END:VCALENDAR