BEGIN:VCALENDAR
VERSION:2.0
PRODID:-//Long Island High School for the Arts - ECPv5.16.4//NONSGML v1.0//EN
CALSCALE:GREGORIAN
METHOD:PUBLISH
X-WR-CALNAME:Long Island High School for the Arts
X-ORIGINAL-URL:https://www.longislandhighschoolforthearts.org
X-WR-CALDESC:Events for Long Island High School for the Arts
REFRESH-INTERVAL;VALUE=DURATION:PT1H
X-Robots-Tag:noindex
X-PUBLISHED-TTL:PT1H
BEGIN:VTIMEZONE
TZID:America/New_York
BEGIN:DAYLIGHT
TZOFFSETFROM:-0500
TZOFFSETTO:-0400
TZNAME:EDT
DTSTART:20250309T070000
END:DAYLIGHT
BEGIN:STANDARD
TZOFFSETFROM:-0400
TZOFFSETTO:-0500
TZNAME:EST
DTSTART:20251102T060000
END:STANDARD
END:VTIMEZONE
BEGIN:VEVENT
DTSTART;TZID=America/New_York:20250516T143000
DTEND;TZID=America/New_York:20250516T143000
DTSTAMP:20260425T081229
CREATED:20240809T184120Z
LAST-MODIFIED:20240809T184120Z
UID:24228-1747405800-1747405800@www.longislandhighschoolforthearts.org
SUMMARY:Marking Period 4 Progress Reports Published
DESCRIPTION:
URL:https://www.longislandhighschoolforthearts.org/event/marking-period-4-progress-reports-published/
END:VEVENT
BEGIN:VEVENT
DTSTART;TZID=America/New_York:20250516T180000
DTEND;TZID=America/New_York:20250516T180000
DTSTAMP:20260425T081229
CREATED:20240809T184216Z
LAST-MODIFIED:20250512T131752Z
UID:24230-1747418400-1747418400@www.longislandhighschoolforthearts.org
SUMMARY:Spring Festival - Dance Show
DESCRIPTION:Ticket Link – Click Here
URL:https://www.longislandhighschoolforthearts.org/event/spring-festival-dance-show-suny-old-westbury/
END:VEVENT
END:VCALENDAR