BEGIN:VCALENDAR
VERSION:2.0
PRODID:-//Long Island High School for the Arts - ECPv5.16.4//NONSGML v1.0//EN
CALSCALE:GREGORIAN
METHOD:PUBLISH
X-WR-CALNAME:Long Island High School for the Arts
X-ORIGINAL-URL:https://www.longislandhighschoolforthearts.org
X-WR-CALDESC:Events for Long Island High School for the Arts
REFRESH-INTERVAL;VALUE=DURATION:PT1H
X-Robots-Tag:noindex
X-PUBLISHED-TTL:PT1H
BEGIN:VTIMEZONE
TZID:America/New_York
BEGIN:DAYLIGHT
TZOFFSETFROM:-0500
TZOFFSETTO:-0400
TZNAME:EDT
DTSTART:20240310T070000
END:DAYLIGHT
BEGIN:STANDARD
TZOFFSETFROM:-0400
TZOFFSETTO:-0500
TZNAME:EST
DTSTART:20241103T060000
END:STANDARD
TZID:America/New_York
BEGIN:DAYLIGHT
TZOFFSETFROM:-0500
TZOFFSETTO:-0400
TZNAME:EDT
DTSTART:20240310T070000
END:DAYLIGHT
BEGIN:STANDARD
TZOFFSETFROM:-0400
TZOFFSETTO:-0500
TZNAME:EST
DTSTART:20241103T060000
END:STANDARD
END:VTIMEZONE
BEGIN:VEVENT
DTSTART;TZID=America/New_York:20240506T080000
DTEND;TZID=America/New_York:20240506T103000
DTSTAMP:20260424T162811
CREATED:20230707T151516Z
LAST-MODIFIED:20230707T151516Z
UID:19636-1714982400-1714991400@www.longislandhighschoolforthearts.org
SUMMARY:Written Technical Assessments - All Students
DESCRIPTION:
URL:https://www.longislandhighschoolforthearts.org/event/written-technical-assessments-all-students/
END:VEVENT
BEGIN:VEVENT
DTSTART;TZID=America/New_York:20240506T120000
DTEND;TZID=America/New_York:20240506T143000
DTSTAMP:20260424T162811
CREATED:20230707T151555Z
LAST-MODIFIED:20230707T151555Z
UID:19638-1714996800-1715005800@www.longislandhighschoolforthearts.org
SUMMARY:Written Technical Assessments - All Students
DESCRIPTION:
URL:https://www.longislandhighschoolforthearts.org/event/written-technical-assessments-all-students-2/
END:VEVENT
BEGIN:VEVENT
DTSTART;TZID=America/New_York:20240507T080000
DTEND;TZID=America/New_York:20240507T103000
DTSTAMP:20260424T162811
CREATED:20230707T151644Z
LAST-MODIFIED:20230707T151644Z
UID:19640-1715068800-1715077800@www.longislandhighschoolforthearts.org
SUMMARY:Written Technical Assessments - All Students
DESCRIPTION:
URL:https://www.longislandhighschoolforthearts.org/event/written-technical-assessments-all-students-3/
END:VEVENT
BEGIN:VEVENT
DTSTART;TZID=America/New_York:20240507T120000
DTEND;TZID=America/New_York:20240507T143000
DTSTAMP:20260424T162811
CREATED:20230707T151720Z
LAST-MODIFIED:20230707T151720Z
UID:19642-1715083200-1715092200@www.longislandhighschoolforthearts.org
SUMMARY:Written Technical Assessments - All Students
DESCRIPTION:
URL:https://www.longislandhighschoolforthearts.org/event/written-technical-assessments-all-students-4/
END:VEVENT
BEGIN:VEVENT
DTSTART;TZID=America/New_York:20240508T080000
DTEND;TZID=America/New_York:20240508T103000
DTSTAMP:20260424T162811
CREATED:20230707T151847Z
LAST-MODIFIED:20230707T151847Z
UID:19644-1715155200-1715164200@www.longislandhighschoolforthearts.org
SUMMARY:Written Technical Assessments - All Students
DESCRIPTION:
URL:https://www.longislandhighschoolforthearts.org/event/written-technical-assessments-all-students-5/
END:VEVENT
BEGIN:VEVENT
DTSTART;TZID=America/New_York:20240508T120000
DTEND;TZID=America/New_York:20240508T143000
DTSTAMP:20260424T162811
CREATED:20230707T151944Z
LAST-MODIFIED:20230707T151944Z
UID:19646-1715169600-1715178600@www.longislandhighschoolforthearts.org
SUMMARY:Written Technical Assessments - All Students
DESCRIPTION:
URL:https://www.longislandhighschoolforthearts.org/event/written-technical-assessments-all-students-6/
END:VEVENT
BEGIN:VEVENT
DTSTART;TZID=America/New_York:20240509T080000
DTEND;TZID=America/New_York:20240509T103000
DTSTAMP:20260424T162811
CREATED:20230707T152028Z
LAST-MODIFIED:20230707T152028Z
UID:19648-1715241600-1715250600@www.longislandhighschoolforthearts.org
SUMMARY:Written Technical Assessments - All Students
DESCRIPTION:
URL:https://www.longislandhighschoolforthearts.org/event/written-technical-assessments-all-students-7/
END:VEVENT
BEGIN:VEVENT
DTSTART;TZID=America/New_York:20240509T120000
DTEND;TZID=America/New_York:20240509T143000
DTSTAMP:20260424T162811
CREATED:20230707T152105Z
LAST-MODIFIED:20230707T152105Z
UID:19650-1715256000-1715265000@www.longislandhighschoolforthearts.org
SUMMARY:Written Technical Assessments - All Students
DESCRIPTION:
URL:https://www.longislandhighschoolforthearts.org/event/written-technical-assessments-all-students-8/
END:VEVENT
BEGIN:VEVENT
DTSTART;TZID=America/New_York:20240510T080000
DTEND;TZID=America/New_York:20240510T103000
DTSTAMP:20260424T162811
CREATED:20230707T152223Z
LAST-MODIFIED:20230707T152223Z
UID:19652-1715328000-1715337000@www.longislandhighschoolforthearts.org
SUMMARY:AP Art Exam
DESCRIPTION:
URL:https://www.longislandhighschoolforthearts.org/event/ap-art-exam/
END:VEVENT
BEGIN:VEVENT
DTSTART;TZID=America/New_York:20240510T080000
DTEND;TZID=America/New_York:20240510T103000
DTSTAMP:20260424T162811
CREATED:20230707T152436Z
LAST-MODIFIED:20230707T152436Z
UID:19656-1715328000-1715337000@www.longislandhighschoolforthearts.org
SUMMARY:Marking Period 4 Progress Reports Released to Students
DESCRIPTION:
URL:https://www.longislandhighschoolforthearts.org/event/marking-period-4-progress-reports-released-to-students/
END:VEVENT
BEGIN:VEVENT
DTSTART;TZID=America/New_York:20240510T120000
DTEND;TZID=America/New_York:20240510T143000
DTSTAMP:20260424T162811
CREATED:20230707T152303Z
LAST-MODIFIED:20230707T152303Z
UID:19654-1715342400-1715351400@www.longislandhighschoolforthearts.org
SUMMARY:AP Art Exam
DESCRIPTION:
URL:https://www.longislandhighschoolforthearts.org/event/ap-art-exam-2/
END:VEVENT
BEGIN:VEVENT
DTSTART;TZID=America/New_York:20240510T120000
DTEND;TZID=America/New_York:20240510T143000
DTSTAMP:20260424T162811
CREATED:20230707T152514Z
LAST-MODIFIED:20230707T152514Z
UID:19658-1715342400-1715351400@www.longislandhighschoolforthearts.org
SUMMARY:Marking Period 4 Progress Reports Released to Students
DESCRIPTION:
URL:https://www.longislandhighschoolforthearts.org/event/marking-period-4-progress-reports-released-to-students-2/
END:VEVENT
BEGIN:VEVENT
DTSTART;TZID=America/New_York:20240514T090000
DTEND;TZID=America/New_York:20240514T100000
DTSTAMP:20260424T162811
CREATED:20230706T141500Z
LAST-MODIFIED:20230706T141500Z
UID:19376-1715677200-1715680800@www.longislandhighschoolforthearts.org
SUMMARY:LIHSA Advisory Board Meeting (Virtual)
DESCRIPTION:
URL:https://www.longislandhighschoolforthearts.org/event/lihsa-advisory-board-meeting-virtual-2/
END:VEVENT
BEGIN:VEVENT
DTSTART;TZID=America/New_York:20240516T080000
DTEND;TZID=America/New_York:20240516T103000
DTSTAMP:20260424T162811
CREATED:20230707T152854Z
LAST-MODIFIED:20230707T152854Z
UID:19660-1715846400-1715855400@www.longislandhighschoolforthearts.org
SUMMARY:Technical Rehearsal - Musical Theatre
DESCRIPTION:
URL:https://www.longislandhighschoolforthearts.org/event/technical-rehearsal-musical-theatre/
END:VEVENT
BEGIN:VEVENT
DTSTART;TZID=America/New_York:20240516T120000
DTEND;TZID=America/New_York:20240516T143000
DTSTAMP:20260424T162811
CREATED:20230707T152929Z
LAST-MODIFIED:20230707T152929Z
UID:19662-1715860800-1715869800@www.longislandhighschoolforthearts.org
SUMMARY:Technical Rehearsal - Musical Theatre
DESCRIPTION:
URL:https://www.longislandhighschoolforthearts.org/event/technical-rehearsal-musical-theatre-2/
END:VEVENT
BEGIN:VEVENT
DTSTART;TZID=America/New_York:20240517T080000
DTEND;TZID=America/New_York:20240517T103000
DTSTAMP:20260424T162811
CREATED:20230707T153006Z
LAST-MODIFIED:20230707T153006Z
UID:19664-1715932800-1715941800@www.longislandhighschoolforthearts.org
SUMMARY:Technical Rehearsal - Musical Theatre
DESCRIPTION:
URL:https://www.longislandhighschoolforthearts.org/event/technical-rehearsal-musical-theatre-3/
END:VEVENT
BEGIN:VEVENT
DTSTART;TZID=America/New_York:20240517T120000
DTEND;TZID=America/New_York:20240517T143000
DTSTAMP:20260424T162811
CREATED:20230707T153117Z
LAST-MODIFIED:20230707T153117Z
UID:19666-1715947200-1715956200@www.longislandhighschoolforthearts.org
SUMMARY:Technical Rehearsal - Musical Theatre
DESCRIPTION:
URL:https://www.longislandhighschoolforthearts.org/event/technical-rehearsal-musical-theatre-4/
END:VEVENT
BEGIN:VEVENT
DTSTART;TZID=America/New_York:20240519T080000
DTEND;TZID=America/New_York:20240519T110000
DTSTAMP:20260424T162811
CREATED:20230707T153838Z
LAST-MODIFIED:20230707T153838Z
UID:19668-1716105600-1716116400@www.longislandhighschoolforthearts.org
SUMMARY:Technical Rehearsal - Musical Theatre - AM Session
DESCRIPTION:
URL:https://www.longislandhighschoolforthearts.org/event/technical-rehearsal-musical-theatre-am-session/
END:VEVENT
BEGIN:VEVENT
DTSTART;TZID=America/New_York:20240519T110000
DTEND;TZID=America/New_York:20240519T140000
DTSTAMP:20260424T162811
CREATED:20230707T153931Z
LAST-MODIFIED:20230707T153931Z
UID:19670-1716116400-1716127200@www.longislandhighschoolforthearts.org
SUMMARY:Technical Rehearsal - Musical Theatre PM Session
DESCRIPTION:
URL:https://www.longislandhighschoolforthearts.org/event/technical-rehearsal-musical-theatre-pm-session/
END:VEVENT
BEGIN:VEVENT
DTSTART;TZID=America/New_York:20240521T180000
DTEND;TZID=America/New_York:20240521T210000
DTSTAMP:20260424T162811
CREATED:20230707T154051Z
LAST-MODIFIED:20230708T144234Z
UID:19672-1716314400-1716325200@www.longislandhighschoolforthearts.org
SUMMARY:AM Musical Theatre Production
DESCRIPTION:
URL:https://www.longislandhighschoolforthearts.org/event/am-musical-theatre-production/
END:VEVENT
BEGIN:VEVENT
DTSTART;TZID=America/New_York:20240522T180000
DTEND;TZID=America/New_York:20240522T210000
DTSTAMP:20260424T162811
CREATED:20230707T154201Z
LAST-MODIFIED:20230707T154201Z
UID:19674-1716400800-1716411600@www.longislandhighschoolforthearts.org
SUMMARY:PM Musical Theatre Production
DESCRIPTION:
URL:https://www.longislandhighschoolforthearts.org/event/pm-musical-theatre-production/
END:VEVENT
BEGIN:VEVENT
DTSTART;TZID=America/New_York:20240524T080000
DTEND;TZID=America/New_York:20240524T103000
DTSTAMP:20260424T162811
CREATED:20230706T150644Z
LAST-MODIFIED:20230706T150644Z
UID:19432-1716537600-1716546600@www.longislandhighschoolforthearts.org
SUMMARY:1 + 1 Bring A Friend To LIHSA Day
DESCRIPTION:
URL:https://www.longislandhighschoolforthearts.org/event/1-1-bring-a-friend-to-lihsa-day-3/
END:VEVENT
BEGIN:VEVENT
DTSTART;TZID=America/New_York:20240524T120000
DTEND;TZID=America/New_York:20240524T143000
DTSTAMP:20260424T162811
CREATED:20230706T150728Z
LAST-MODIFIED:20230706T150728Z
UID:19434-1716552000-1716561000@www.longislandhighschoolforthearts.org
SUMMARY:1 + 1 Bring A Friend To LIHSA Day
DESCRIPTION:
URL:https://www.longislandhighschoolforthearts.org/event/1-1-bring-a-friend-to-lihsa-day-4/
END:VEVENT
BEGIN:VEVENT
DTSTART;VALUE=DATE:20240527
DTEND;VALUE=DATE:20240528
DTSTAMP:20260424T162811
CREATED:20210628T132114Z
LAST-MODIFIED:20210628T132114Z
UID:14022-1716768000-1716854399@www.longislandhighschoolforthearts.org
SUMMARY:Memorial Day - Schools Closed
DESCRIPTION:
URL:https://www.longislandhighschoolforthearts.org/event/memorial-day-schools-closed-3-2024-05-27/
END:VEVENT
BEGIN:VEVENT
DTSTART;TZID=America/New_York:20240528T080000
DTEND;TZID=America/New_York:20240528T103000
DTSTAMP:20260424T162811
CREATED:20230708T141549Z
LAST-MODIFIED:20230708T141549Z
UID:19680-1716883200-1716892200@www.longislandhighschoolforthearts.org
SUMMARY:Technical Rehearsal - Dance & Music
DESCRIPTION:
URL:https://www.longislandhighschoolforthearts.org/event/technical-rehearsal-dance-music/
END:VEVENT
BEGIN:VEVENT
DTSTART;TZID=America/New_York:20240528T120000
DTEND;TZID=America/New_York:20240528T143000
DTSTAMP:20260424T162811
CREATED:20230708T141652Z
LAST-MODIFIED:20230708T141652Z
UID:19682-1716897600-1716906600@www.longislandhighschoolforthearts.org
SUMMARY:Technical Rehearsal - Dance & Music
DESCRIPTION:
URL:https://www.longislandhighschoolforthearts.org/event/technical-rehearsal-dance-music-2/
END:VEVENT
BEGIN:VEVENT
DTSTART;TZID=America/New_York:20240529T000000
DTEND;TZID=America/New_York:20240529T235900
DTSTAMP:20260424T162811
CREATED:20230708T142151Z
LAST-MODIFIED:20230708T142151Z
UID:19688-1716940800-1717027140@www.longislandhighschoolforthearts.org
SUMMARY:AP Art Show - Time & Location To Be Determined
DESCRIPTION:
URL:https://www.longislandhighschoolforthearts.org/event/ap-art-show-time-location-to-be-determined/
END:VEVENT
BEGIN:VEVENT
DTSTART;TZID=America/New_York:20240529T080000
DTEND;TZID=America/New_York:20240529T103000
DTSTAMP:20260424T162811
CREATED:20230708T141844Z
LAST-MODIFIED:20230708T141844Z
UID:19684-1716969600-1716978600@www.longislandhighschoolforthearts.org
SUMMARY:Technical Rehearsal - Dance & Music
DESCRIPTION:
URL:https://www.longislandhighschoolforthearts.org/event/technical-rehearsal-dance-music-3/
END:VEVENT
BEGIN:VEVENT
DTSTART;TZID=America/New_York:20240529T120000
DTEND;TZID=America/New_York:20240529T143000
DTSTAMP:20260424T162811
CREATED:20230708T141956Z
LAST-MODIFIED:20230708T141956Z
UID:19686-1716984000-1716993000@www.longislandhighschoolforthearts.org
SUMMARY:Technical Rehearsal - Dance & Music
DESCRIPTION:
URL:https://www.longislandhighschoolforthearts.org/event/technical-rehearsal-dance-music-4/
END:VEVENT
BEGIN:VEVENT
DTSTART;TZID=America/New_York:20240530T080000
DTEND;TZID=America/New_York:20240530T103000
DTSTAMP:20260424T162811
CREATED:20230708T142259Z
LAST-MODIFIED:20230708T142259Z
UID:19690-1717056000-1717065000@www.longislandhighschoolforthearts.org
SUMMARY:Technical Rehearsal - Dance & Music
DESCRIPTION:
URL:https://www.longislandhighschoolforthearts.org/event/technical-rehearsal-dance-music-5/
END:VEVENT
END:VCALENDAR