BEGIN:VCALENDAR
VERSION:2.0
PRODID:-//Long Island High School for the Arts - ECPv5.16.4//NONSGML v1.0//EN
CALSCALE:GREGORIAN
METHOD:PUBLISH
X-WR-CALNAME:Long Island High School for the Arts
X-ORIGINAL-URL:https://www.longislandhighschoolforthearts.org
X-WR-CALDESC:Events for Long Island High School for the Arts
REFRESH-INTERVAL;VALUE=DURATION:PT1H
X-Robots-Tag:noindex
X-PUBLISHED-TTL:PT1H
BEGIN:VTIMEZONE
TZID:America/New_York
BEGIN:DAYLIGHT
TZOFFSETFROM:-0500
TZOFFSETTO:-0400
TZNAME:EDT
DTSTART:20240310T070000
END:DAYLIGHT
BEGIN:STANDARD
TZOFFSETFROM:-0400
TZOFFSETTO:-0500
TZNAME:EST
DTSTART:20241103T060000
END:STANDARD
END:VTIMEZONE
BEGIN:VEVENT
DTSTART;TZID=America/New_York:20240601T130000
DTEND;TZID=America/New_York:20240601T173000
DTSTAMP:20260424T162821
CREATED:20230708T143223Z
LAST-MODIFIED:20230708T143223Z
UID:19702-1717246800-1717263000@www.longislandhighschoolforthearts.org
SUMMARY:Technical Rehearsal - Dance
DESCRIPTION:
URL:https://www.longislandhighschoolforthearts.org/event/technical-rehearsal-dance/
END:VEVENT
BEGIN:VEVENT
DTSTART;TZID=America/New_York:20240601T180000
DTEND;TZID=America/New_York:20240601T193000
DTSTAMP:20260424T162821
CREATED:20230708T143337Z
LAST-MODIFIED:20230708T144629Z
UID:19704-1717264800-1717270200@www.longislandhighschoolforthearts.org
SUMMARY:Spring Festival - Dance Performance
DESCRIPTION:
URL:https://www.longislandhighschoolforthearts.org/event/spring-festival-dance-performance/
END:VEVENT
BEGIN:VEVENT
DTSTART;TZID=America/New_York:20240603T080000
DTEND;TZID=America/New_York:20240603T103000
DTSTAMP:20260424T162821
CREATED:20230708T145214Z
LAST-MODIFIED:20230708T145214Z
UID:19708-1717401600-1717410600@www.longislandhighschoolforthearts.org
SUMMARY:Senior Day - Certificate Ceremony Rehearsal
DESCRIPTION:
URL:https://www.longislandhighschoolforthearts.org/event/senior-day-certificate-ceremony-rehearsal/
END:VEVENT
BEGIN:VEVENT
DTSTART;TZID=America/New_York:20240603T120000
DTEND;TZID=America/New_York:20240603T143000
DTSTAMP:20260424T162821
CREATED:20230708T145309Z
LAST-MODIFIED:20230708T145309Z
UID:19710-1717416000-1717425000@www.longislandhighschoolforthearts.org
SUMMARY:Senior Day - Certificate Ceremony Rehearsal
DESCRIPTION:
URL:https://www.longislandhighschoolforthearts.org/event/senior-day-certificate-ceremony-rehearsal-2/
END:VEVENT
BEGIN:VEVENT
DTSTART;TZID=America/New_York:20240603T180000
DTEND;TZID=America/New_York:20240603T193000
DTSTAMP:20260424T162821
CREATED:20230708T143601Z
LAST-MODIFIED:20230708T143601Z
UID:19706-1717437600-1717443000@www.longislandhighschoolforthearts.org
SUMMARY:Media & Film Festival
DESCRIPTION:
URL:https://www.longislandhighschoolforthearts.org/event/media-film-festival/
END:VEVENT
BEGIN:VEVENT
DTSTART;TZID=America/New_York:20240604T000000
DTEND;TZID=America/New_York:20240604T235900
DTSTAMP:20260424T162821
CREATED:20230708T145525Z
LAST-MODIFIED:20230708T145525Z
UID:19712-1717459200-1717545540@www.longislandhighschoolforthearts.org
SUMMARY:Rosemary Kennedy / LIHSA Buddies Program - Performance at Rosemary Kennedy Center - Time to be announced
DESCRIPTION:
URL:https://www.longislandhighschoolforthearts.org/event/rosemary-kennedy-lihsa-buddies-program-performance-at-rosemary-kennedy-center-time-to-be-announced/
END:VEVENT
BEGIN:VEVENT
DTSTART;TZID=America/New_York:20240605T080000
DTEND;TZID=America/New_York:20240605T103000
DTSTAMP:20260424T162821
CREATED:20230708T162438Z
LAST-MODIFIED:20230708T162438Z
UID:19715-1717574400-1717583400@www.longislandhighschoolforthearts.org
SUMMARY:Last Day of Classes for Students - Marking Period 4 Ends
DESCRIPTION:
URL:https://www.longislandhighschoolforthearts.org/event/last-day-of-classes-for-students-marking-period-4-ends/
END:VEVENT
BEGIN:VEVENT
DTSTART;TZID=America/New_York:20240605T080000
DTEND;TZID=America/New_York:20240605T103000
DTSTAMP:20260424T162821
CREATED:20230708T163341Z
LAST-MODIFIED:20230708T163341Z
UID:19723-1717574400-1717583400@www.longislandhighschoolforthearts.org
SUMMARY:Spring Carinival
DESCRIPTION:
URL:https://www.longislandhighschoolforthearts.org/event/spring-carinival/
END:VEVENT
BEGIN:VEVENT
DTSTART;TZID=America/New_York:20240605T093000
DTEND;TZID=America/New_York:20240605T102000
DTSTAMP:20260424T162821
CREATED:20230708T162906Z
LAST-MODIFIED:20230708T170412Z
UID:19721-1717579800-1717582800@www.longislandhighschoolforthearts.org
SUMMARY:Spring Student Showcase
DESCRIPTION:
URL:https://www.longislandhighschoolforthearts.org/event/summer-student-showcase-2/
END:VEVENT
BEGIN:VEVENT
DTSTART;TZID=America/New_York:20240605T120000
DTEND;TZID=America/New_York:20240605T123000
DTSTAMP:20260424T162821
CREATED:20230708T162526Z
LAST-MODIFIED:20230708T162526Z
UID:19717-1717588800-1717590600@www.longislandhighschoolforthearts.org
SUMMARY:Last Day of Classes for Students - Marking Period 4 Ends
DESCRIPTION:
URL:https://www.longislandhighschoolforthearts.org/event/last-day-of-classes-for-students-marking-period-4-ends-2/
END:VEVENT
BEGIN:VEVENT
DTSTART;TZID=America/New_York:20240605T120000
DTEND;TZID=America/New_York:20240605T143000
DTSTAMP:20260424T162821
CREATED:20230708T163457Z
LAST-MODIFIED:20230708T163457Z
UID:19725-1717588800-1717597800@www.longislandhighschoolforthearts.org
SUMMARY:Spring Carinval
DESCRIPTION:
URL:https://www.longislandhighschoolforthearts.org/event/spring-carinval/
END:VEVENT
BEGIN:VEVENT
DTSTART;TZID=America/New_York:20240605T133000
DTEND;TZID=America/New_York:20240605T142000
DTSTAMP:20260424T162821
CREATED:20230708T162656Z
LAST-MODIFIED:20230708T170446Z
UID:19719-1717594200-1717597200@www.longislandhighschoolforthearts.org
SUMMARY:Spring Student Showcase
DESCRIPTION:
URL:https://www.longislandhighschoolforthearts.org/event/summer-student-showcase/
END:VEVENT
BEGIN:VEVENT
DTSTART;TZID=America/New_York:20240607T190000
DTEND;TZID=America/New_York:20240607T230000
DTSTAMP:20260424T162821
CREATED:20230708T163655Z
LAST-MODIFIED:20240221T141948Z
UID:19727-1717786800-1717801200@www.longislandhighschoolforthearts.org
SUMMARY:LIHSA Prom - Royal Palm - Farmingdale
DESCRIPTION:
URL:https://www.longislandhighschoolforthearts.org/event/lihsa-prom-times-location-to-be-determined/
END:VEVENT
BEGIN:VEVENT
DTSTART;TZID=America/New_York:20240609T180000
DTEND;TZID=America/New_York:20240609T200000
DTSTAMP:20260424T162821
CREATED:20230708T163812Z
LAST-MODIFIED:20240506T132549Z
UID:19729-1717956000-1717963200@www.longislandhighschoolforthearts.org
SUMMARY:LIHSA 50th Anniversary Event - Big Shot
DESCRIPTION:Click the Link below to Purchase Tickets: \nNassau BOCES Long Island High School for the Arts Presents: Big Shot (onthestage.tickets)
URL:https://www.longislandhighschoolforthearts.org/event/lihsa-50th-anniversary-event/
END:VEVENT
BEGIN:VEVENT
DTSTART;TZID=America/New_York:20240611T180000
DTEND;TZID=America/New_York:20240611T200000
DTSTAMP:20260424T162821
CREATED:20230708T164052Z
LAST-MODIFIED:20230708T164402Z
UID:19731-1718128800-1718136000@www.longislandhighschoolforthearts.org
SUMMARY:Certificate Ceremony - Time & Location To Be Determined
DESCRIPTION:
URL:https://www.longislandhighschoolforthearts.org/event/certificate-ceremony-time-location-to-be-determined/
END:VEVENT
BEGIN:VEVENT
DTSTART;TZID=America/New_York:20240612T143000
DTEND;TZID=America/New_York:20240612T235900
DTSTAMP:20260424T162821
CREATED:20230708T164239Z
LAST-MODIFIED:20230708T164239Z
UID:19733-1718202600-1718236740@www.longislandhighschoolforthearts.org
SUMMARY:Marking Period 4 Report Cards Released
DESCRIPTION:
URL:https://www.longislandhighschoolforthearts.org/event/marking-period-4-report-cards-released/
END:VEVENT
BEGIN:VEVENT
DTSTART;VALUE=DATE:20240619
DTEND;VALUE=DATE:20240620
DTSTAMP:20260424T162821
CREATED:20230708T164518Z
LAST-MODIFIED:20230708T165136Z
UID:19735-1718755200-1718841599@www.longislandhighschoolforthearts.org
SUMMARY:Juneteenth - Schools Closed
DESCRIPTION:
URL:https://www.longislandhighschoolforthearts.org/event/juneteenth-schools-closed-4/
END:VEVENT
BEGIN:VEVENT
DTSTART;TZID=America/New_York:20240625T080000
DTEND;TZID=America/New_York:20240625T143000
DTSTAMP:20260424T162821
CREATED:20230708T164637Z
LAST-MODIFIED:20230708T164637Z
UID:19737-1719302400-1719325800@www.longislandhighschoolforthearts.org
SUMMARY:Last Day Of School For Teachers
DESCRIPTION:
URL:https://www.longislandhighschoolforthearts.org/event/last-day-of-school-for-teachers-3/
END:VEVENT
END:VCALENDAR