BEGIN:VCALENDAR
VERSION:2.0
PRODID:-//Long Island High School for the Arts - ECPv5.16.4//NONSGML v1.0//EN
CALSCALE:GREGORIAN
METHOD:PUBLISH
X-WR-CALNAME:Long Island High School for the Arts
X-ORIGINAL-URL:https://www.longislandhighschoolforthearts.org
X-WR-CALDESC:Events for Long Island High School for the Arts
REFRESH-INTERVAL;VALUE=DURATION:PT1H
X-Robots-Tag:noindex
X-PUBLISHED-TTL:PT1H
BEGIN:VTIMEZONE
TZID:America/New_York
BEGIN:DAYLIGHT
TZOFFSETFROM:-0500
TZOFFSETTO:-0400
TZNAME:EDT
DTSTART:20240310T070000
END:DAYLIGHT
BEGIN:STANDARD
TZOFFSETFROM:-0400
TZOFFSETTO:-0500
TZNAME:EST
DTSTART:20241103T060000
END:STANDARD
END:VTIMEZONE
BEGIN:VEVENT
DTSTART;VALUE=DATE:20241101
DTEND;VALUE=DATE:20241102
DTSTAMP:20260424T214508
CREATED:20240808T181243Z
LAST-MODIFIED:20240809T142427Z
UID:23939-1730419200-1730505599@www.longislandhighschoolforthearts.org
SUMMARY:Superintendent Conference Day - Schools Closed (Teachers Report - Industry Day)
DESCRIPTION:
URL:https://www.longislandhighschoolforthearts.org/event/superintendent-conference-day-schools-closed/
END:VEVENT
BEGIN:VEVENT
DTSTART;TZID=America/New_York:20241104T080000
DTEND;TZID=America/New_York:20241104T220000
DTSTAMP:20260424T214508
CREATED:20240903T192034Z
LAST-MODIFIED:20240903T192059Z
UID:24415-1730707200-1730757600@www.longislandhighschoolforthearts.org
SUMMARY:Broadway Supports LIHSA (Rehearsal - Tech - Dress - Show)
DESCRIPTION:
URL:https://www.longislandhighschoolforthearts.org/event/broadway-supports-lihsa-rehearsal-tech-dress-show/
END:VEVENT
BEGIN:VEVENT
DTSTART;TZID=America/New_York:20241104T190000
DTEND;TZID=America/New_York:20241104T190000
DTSTAMP:20260424T214508
CREATED:20240808T181422Z
LAST-MODIFIED:20240808T181422Z
UID:23941-1730746800-1730746800@www.longislandhighschoolforthearts.org
SUMMARY:Broadway Supports LIHSA
DESCRIPTION:
URL:https://www.longislandhighschoolforthearts.org/event/broadway-supports-lihsa-2/
END:VEVENT
BEGIN:VEVENT
DTSTART;VALUE=DATE:20241105
DTEND;VALUE=DATE:20241106
DTSTAMP:20260424T214508
CREATED:20240808T181513Z
LAST-MODIFIED:20240808T181513Z
UID:23943-1730764800-1730851199@www.longislandhighschoolforthearts.org
SUMMARY:Election Day\, Schools Closed
DESCRIPTION:
URL:https://www.longislandhighschoolforthearts.org/event/election-day-schools-closed/
END:VEVENT
BEGIN:VEVENT
DTSTART;TZID=America/New_York:20241107T104500
DTEND;TZID=America/New_York:20241107T114500
DTSTAMP:20260424T214508
CREATED:20240808T181627Z
LAST-MODIFIED:20240808T181627Z
UID:23945-1730976300-1730979900@www.longislandhighschoolforthearts.org
SUMMARY:Dance Buddies
DESCRIPTION:
URL:https://www.longislandhighschoolforthearts.org/event/dance-buddies-2/
END:VEVENT
BEGIN:VEVENT
DTSTART;TZID=America/New_York:20241108T143000
DTEND;TZID=America/New_York:20241108T143000
DTSTAMP:20260424T214508
CREATED:20240808T181838Z
LAST-MODIFIED:20240808T181838Z
UID:23947-1731076200-1731076200@www.longislandhighschoolforthearts.org
SUMMARY:Marking Period 1 Ends
DESCRIPTION:
URL:https://www.longislandhighschoolforthearts.org/event/marking-period-1-ends-2/
END:VEVENT
BEGIN:VEVENT
DTSTART;VALUE=DATE:20241111
DTEND;VALUE=DATE:20241112
DTSTAMP:20260424T214508
CREATED:20240808T182008Z
LAST-MODIFIED:20240808T182008Z
UID:23949-1731283200-1731369599@www.longislandhighschoolforthearts.org
SUMMARY:Veterans Day\, Schools Closed
DESCRIPTION:
URL:https://www.longislandhighschoolforthearts.org/event/veterans-day-schools-closed/
END:VEVENT
BEGIN:VEVENT
DTSTART;TZID=America/New_York:20241115T080000
DTEND;TZID=America/New_York:20241115T150000
DTSTAMP:20260424T214508
CREATED:20240808T182602Z
LAST-MODIFIED:20240808T182602Z
UID:23951-1731657600-1731682800@www.longislandhighschoolforthearts.org
SUMMARY:Stage The Change - Tilles Center
DESCRIPTION:
URL:https://www.longislandhighschoolforthearts.org/event/stage-the-change-tilles-center-3/
END:VEVENT
BEGIN:VEVENT
DTSTART;TZID=America/New_York:20241115T143000
DTEND;TZID=America/New_York:20241115T143000
DTSTAMP:20260424T214508
CREATED:20240808T190630Z
LAST-MODIFIED:20240808T190630Z
UID:24001-1731681000-1731681000@www.longislandhighschoolforthearts.org
SUMMARY:Marking Period 1 Report Cards Published
DESCRIPTION:
URL:https://www.longislandhighschoolforthearts.org/event/marking-period-1-report-cards-published/
END:VEVENT
BEGIN:VEVENT
DTSTART;TZID=America/New_York:20241119T090000
DTEND;TZID=America/New_York:20241119T090000
DTSTAMP:20260424T214508
CREATED:20240808T182717Z
LAST-MODIFIED:20240808T182717Z
UID:23953-1732006800-1732006800@www.longislandhighschoolforthearts.org
SUMMARY:LIHSA Ribbon Cutting Ceremony
DESCRIPTION:
URL:https://www.longislandhighschoolforthearts.org/event/lihsa-ribbon-cutting-ceremony/
END:VEVENT
BEGIN:VEVENT
DTSTART;TZID=America/New_York:20241126T110000
DTEND;TZID=America/New_York:20241126T114500
DTSTAMP:20260424T214508
CREATED:20240808T182919Z
LAST-MODIFIED:20240808T182919Z
UID:23955-1732618800-1732621500@www.longislandhighschoolforthearts.org
SUMMARY:Site Based Meeting
DESCRIPTION:
URL:https://www.longislandhighschoolforthearts.org/event/site-based-meeting-37/
END:VEVENT
BEGIN:VEVENT
DTSTART;TZID=America/New_York:20241127T093000
DTEND;TZID=America/New_York:20241127T093000
DTSTAMP:20260424T214508
CREATED:20240808T183255Z
LAST-MODIFIED:20240808T183255Z
UID:23957-1732699800-1732699800@www.longislandhighschoolforthearts.org
SUMMARY:Fall Student Showcase
DESCRIPTION:
URL:https://www.longislandhighschoolforthearts.org/event/fall-student-showcase-3/
END:VEVENT
BEGIN:VEVENT
DTSTART;TZID=America/New_York:20241127T133000
DTEND;TZID=America/New_York:20241127T133000
DTSTAMP:20260424T214508
CREATED:20240808T183328Z
LAST-MODIFIED:20240808T183328Z
UID:23959-1732714200-1732714200@www.longislandhighschoolforthearts.org
SUMMARY:Fall Student Showcase
DESCRIPTION:
URL:https://www.longislandhighschoolforthearts.org/event/fall-student-showcase-4/
END:VEVENT
BEGIN:VEVENT
DTSTART;VALUE=DATE:20241128
DTEND;VALUE=DATE:20241129
DTSTAMP:20260424T214508
CREATED:20240808T183408Z
LAST-MODIFIED:20240808T183734Z
UID:23961-1732752000-1732838399@www.longislandhighschoolforthearts.org
SUMMARY:Thanksgiving\, Schools Closed
DESCRIPTION:
URL:https://www.longislandhighschoolforthearts.org/event/thanksgiving/
END:VEVENT
BEGIN:VEVENT
DTSTART;VALUE=DATE:20241129
DTEND;VALUE=DATE:20241130
DTSTAMP:20260424T214508
CREATED:20240808T183437Z
LAST-MODIFIED:20240808T183814Z
UID:23963-1732838400-1732924799@www.longislandhighschoolforthearts.org
SUMMARY:Thanksgiving Recess\, Schools Closed
DESCRIPTION:
URL:https://www.longislandhighschoolforthearts.org/event/thanksgiving-recess/
END:VEVENT
END:VCALENDAR