BEGIN:VCALENDAR
VERSION:2.0
PRODID:-//Long Island High School for the Arts - ECPv5.16.4//NONSGML v1.0//EN
CALSCALE:GREGORIAN
METHOD:PUBLISH
X-WR-CALNAME:Long Island High School for the Arts
X-ORIGINAL-URL:https://www.longislandhighschoolforthearts.org
X-WR-CALDESC:Events for Long Island High School for the Arts
REFRESH-INTERVAL;VALUE=DURATION:PT1H
X-Robots-Tag:noindex
X-PUBLISHED-TTL:PT1H
BEGIN:VTIMEZONE
TZID:America/New_York
BEGIN:DAYLIGHT
TZOFFSETFROM:-0500
TZOFFSETTO:-0400
TZNAME:EDT
DTSTART:20250309T070000
END:DAYLIGHT
BEGIN:STANDARD
TZOFFSETFROM:-0400
TZOFFSETTO:-0500
TZNAME:EST
DTSTART:20251102T060000
END:STANDARD
END:VTIMEZONE
BEGIN:VEVENT
DTSTART;VALUE=DATE:20250301
DTEND;VALUE=DATE:20250302
DTSTAMP:20260425T083323
CREATED:20240809T140205Z
LAST-MODIFIED:20240809T140205Z
UID:24134-1740787200-1740873599@www.longislandhighschoolforthearts.org
SUMMARY:Ramadan (First Day)
DESCRIPTION:
URL:https://www.longislandhighschoolforthearts.org/event/ramadan-first-day/
END:VEVENT
BEGIN:VEVENT
DTSTART;TZID=America/New_York:20250301T110000
DTEND;TZID=America/New_York:20250301T110000
DTSTAMP:20260425T083323
CREATED:20240804T213745Z
LAST-MODIFIED:20250212T142903Z
UID:23830-1740826800-1740826800@www.longislandhighschoolforthearts.org
SUMMARY:Open House - FREE Workshops
DESCRIPTION:Click Here to Register
URL:https://www.longislandhighschoolforthearts.org/event/open-house-18/
END:VEVENT
BEGIN:VEVENT
DTSTART;TZID=America/New_York:20250303T080000
DTEND;TZID=America/New_York:20250303T080000
DTSTAMP:20260425T083323
CREATED:20240809T140530Z
LAST-MODIFIED:20240809T140530Z
UID:24136-1740988800-1740988800@www.longislandhighschoolforthearts.org
SUMMARY:100 Days Ceremony
DESCRIPTION:
URL:https://www.longislandhighschoolforthearts.org/event/100-days-ceremony/
END:VEVENT
BEGIN:VEVENT
DTSTART;TZID=America/New_York:20250303T120000
DTEND;TZID=America/New_York:20250303T120000
DTSTAMP:20260425T083323
CREATED:20240809T140615Z
LAST-MODIFIED:20240809T140615Z
UID:24138-1741003200-1741003200@www.longislandhighschoolforthearts.org
SUMMARY:100 Days Ceremony
DESCRIPTION:
URL:https://www.longislandhighschoolforthearts.org/event/100-days-ceremony-2/
END:VEVENT
BEGIN:VEVENT
DTSTART;VALUE=DATE:20250305
DTEND;VALUE=DATE:20250306
DTSTAMP:20260425T083323
CREATED:20240809T140706Z
LAST-MODIFIED:20240809T140706Z
UID:24140-1741132800-1741219199@www.longislandhighschoolforthearts.org
SUMMARY:Ash Wednesday
DESCRIPTION:
URL:https://www.longislandhighschoolforthearts.org/event/ash-wednesday-2/
END:VEVENT
BEGIN:VEVENT
DTSTART;TZID=America/New_York:20250305T120000
DTEND;TZID=America/New_York:20250305T120000
DTSTAMP:20260425T083323
CREATED:20250124T142652Z
LAST-MODIFIED:20250124T142811Z
UID:25293-1741176000-1741176000@www.longislandhighschoolforthearts.org
SUMMARY:Open House - Summer Arts Program - Virtual
DESCRIPTION:Click Here to Register
URL:https://www.longislandhighschoolforthearts.org/event/open-house-summer-arts-program-virtual/
END:VEVENT
BEGIN:VEVENT
DTSTART;TZID=America/New_York:20250305T120000
DTEND;TZID=America/New_York:20250305T130000
DTSTAMP:20260425T083323
CREATED:20250106T182444Z
LAST-MODIFIED:20250106T182444Z
UID:25118-1741176000-1741179600@www.longislandhighschoolforthearts.org
SUMMARY:Summer Arts Program Virtual Open House
DESCRIPTION:
URL:https://www.longislandhighschoolforthearts.org/event/summer-arts-program-virtual-open-house/
END:VEVENT
BEGIN:VEVENT
DTSTART;TZID=America/New_York:20250306T104500
DTEND;TZID=America/New_York:20250306T114500
DTSTAMP:20260425T083323
CREATED:20240809T140757Z
LAST-MODIFIED:20240809T140757Z
UID:24142-1741257900-1741261500@www.longislandhighschoolforthearts.org
SUMMARY:Dance Buddies
DESCRIPTION:
URL:https://www.longislandhighschoolforthearts.org/event/dance-buddies-6/
END:VEVENT
BEGIN:VEVENT
DTSTART;TZID=America/New_York:20250307T080000
DTEND;TZID=America/New_York:20250307T103000
DTSTAMP:20260425T083323
CREATED:20240804T213847Z
LAST-MODIFIED:20250124T144101Z
UID:23832-1741334400-1741343400@www.longislandhighschoolforthearts.org
SUMMARY:1 + 1 - Bring a Friend to LIHSA Day
DESCRIPTION:Click Here To Register
URL:https://www.longislandhighschoolforthearts.org/event/1-1-bring-a-friend-to-lihsa-day-11/
END:VEVENT
BEGIN:VEVENT
DTSTART;TZID=America/New_York:20250307T120000
DTEND;TZID=America/New_York:20250307T143000
DTSTAMP:20260425T083323
CREATED:20240807T154335Z
LAST-MODIFIED:20250124T144137Z
UID:23889-1741348800-1741357800@www.longislandhighschoolforthearts.org
SUMMARY:1 + 1 Bring A Friend To LIHSA Day
DESCRIPTION:Click Here To Register
URL:https://www.longislandhighschoolforthearts.org/event/1-1-bring-a-friend-to-lihsa-day-16/
END:VEVENT
BEGIN:VEVENT
DTSTART;TZID=America/New_York:20250312T083000
DTEND;TZID=America/New_York:20250312T083000
DTSTAMP:20260425T083323
CREATED:20240809T141341Z
LAST-MODIFIED:20240809T141341Z
UID:24145-1741768200-1741768200@www.longislandhighschoolforthearts.org
SUMMARY:Guidance Advisory Breakfast
DESCRIPTION:
URL:https://www.longislandhighschoolforthearts.org/event/guidance-advisory-breakfast/
END:VEVENT
BEGIN:VEVENT
DTSTART;TZID=America/New_York:20250313T110000
DTEND;TZID=America/New_York:20250313T114500
DTSTAMP:20260425T083323
CREATED:20240809T141438Z
LAST-MODIFIED:20240809T141438Z
UID:24147-1741863600-1741866300@www.longislandhighschoolforthearts.org
SUMMARY:Site Based Meeting
DESCRIPTION:
URL:https://www.longislandhighschoolforthearts.org/event/site-based-meeting-39/
END:VEVENT
BEGIN:VEVENT
DTSTART;TZID=America/New_York:20250314T143000
DTEND;TZID=America/New_York:20250314T143000
DTSTAMP:20260425T083323
CREATED:20240809T141535Z
LAST-MODIFIED:20240809T141535Z
UID:24149-1741962600-1741962600@www.longislandhighschoolforthearts.org
SUMMARY:Marking Period 3 Progress Reports Published
DESCRIPTION:
URL:https://www.longislandhighschoolforthearts.org/event/marking-period-3-progress-reports-published/
END:VEVENT
BEGIN:VEVENT
DTSTART;VALUE=DATE:20250317
DTEND;VALUE=DATE:20250318
DTSTAMP:20260425T083323
CREATED:20240809T141609Z
LAST-MODIFIED:20240809T141609Z
UID:24151-1742169600-1742255999@www.longislandhighschoolforthearts.org
SUMMARY:St. Patrick's Day
DESCRIPTION:
URL:https://www.longislandhighschoolforthearts.org/event/st-patricks-day-4/
END:VEVENT
BEGIN:VEVENT
DTSTART;TZID=America/New_York:20250319T090000
DTEND;TZID=America/New_York:20250319T100000
DTSTAMP:20260425T083323
CREATED:20240809T141921Z
LAST-MODIFIED:20250314T180154Z
UID:24153-1742374800-1742378400@www.longislandhighschoolforthearts.org
SUMMARY:College Fair
DESCRIPTION:
URL:https://www.longislandhighschoolforthearts.org/event/college-fair-5/
END:VEVENT
BEGIN:VEVENT
DTSTART;TZID=America/New_York:20250319T130000
DTEND;TZID=America/New_York:20250319T140000
DTSTAMP:20260425T083323
CREATED:20240809T141950Z
LAST-MODIFIED:20250314T180245Z
UID:24155-1742389200-1742392800@www.longislandhighschoolforthearts.org
SUMMARY:College Fair
DESCRIPTION:
URL:https://www.longislandhighschoolforthearts.org/event/college-fair-6/
END:VEVENT
BEGIN:VEVENT
DTSTART;TZID=America/New_York:20250328T143000
DTEND;TZID=America/New_York:20250328T143000
DTSTAMP:20260425T083323
CREATED:20240809T142112Z
LAST-MODIFIED:20240809T142112Z
UID:24157-1743172200-1743172200@www.longislandhighschoolforthearts.org
SUMMARY:All Senior Scholarship Applications Due
DESCRIPTION:
URL:https://www.longislandhighschoolforthearts.org/event/all-senior-scholarship-applications-due-3/
END:VEVENT
BEGIN:VEVENT
DTSTART;VALUE=DATE:20250331
DTEND;VALUE=DATE:20250401
DTSTAMP:20260425T083323
CREATED:20240809T142221Z
LAST-MODIFIED:20240809T142221Z
UID:24159-1743379200-1743465599@www.longislandhighschoolforthearts.org
SUMMARY:Superintendent Conference Day - School Closed (Teachers Report)
DESCRIPTION:
URL:https://www.longislandhighschoolforthearts.org/event/superintendent-conference-day-school-closed-teachers-report/
END:VEVENT
END:VCALENDAR